BEGIN:VCALENDAR
VERSION:2.0
PRODID:-//eventon.com NONSGML v1.0//EN
CALSCALE:GREGORIAN
METHOD:PUBLISH
BEGIN:VEVENT
UID:69e80e294167e
DTSTAMP:20260421T235417Z
DTSTART:20210927T170000Z
DTEND:20210927T183000Z
LOCATION:
SUMMARY:KAROSI JÃšLIA QUARTET | GETCLOSER JAZZ FEST
DESCRIPTION:Karosi JÃºlia egyÃ©ni hangvÃ©telÅ± vokÃ¡lis mÅ±sorÃ¡val a hazai
  Ã©s kÃ¼lfÃ¶ldi szÃ­npadokat is bejÃ¡rta az elmÃºlt Ã©vtizedben. Az Ã©nekes
 nÅ‘ a klasszikus zene felÅ‘l Ã©rkezett a jazzbe\,  ami nemcsak magas szintÅ
 ± Ã©nek technikÃ¡jÃ¡ban\,  kifejezÅ‘ tÃ³nusaiban\,  de vÃ¡lasztott zenei vi
 lÃ¡gÃ¡ban Ã©s repertoÃ¡rjÃ¡ban is nyomot hagyott. SajÃ¡t szerzemÃ©nyei mell
 ett elÅ‘szeretettel nyÃºl nÃ©pdalokhoz Ã©s klasszikus[..]\nhttps://momkult.
 hu/events/karosi-julia-quartet-getcloser-jazz-fest/
URL:https://momkult.hu/events/karosi-julia-quartet-getcloser-jazz-fest/
END:VEVENT
END:VCALENDAR