BEGIN:VCALENDAR
VERSION:2.0
PRODID:-//eventon.com NONSGML v1.0//EN
CALSCALE:GREGORIAN
METHOD:PUBLISH
BEGIN:VEVENT
UID:69e80dea86592
DTSTAMP:20260421T235314Z
DTSTART:20210923T170000Z
DTEND:20210923T183000Z
LOCATION:
SUMMARY:Búcsú a mamahoteltől
DESCRIPTION:Miért maradnak otthon a fiatalok\,  mit jelent az önállósá
 g és hogyan lehet jól elengedni és elszakadni? A Nézőművészeti Kft. 
 vendégművészei\,  Pálfi Kata és Varga Ádám jelenetei adnak humoros 
 s szórakoztató hátteret Szám Kati\,  a Képmás magazin főszerkesztő
 je és Kozma-Vízkeleti Dániel kiképző családterapeuta beszélgetéséh
 ez. A rendezvény ingyenes\,  de regisztrációhoz kötött. A[..]\nhttps:/
 /momkult.hu/events/bucsu-a-mamahoteltol/
URL:https://momkult.hu/events/bucsu-a-mamahoteltol/
END:VEVENT
END:VCALENDAR