BEGIN:VCALENDAR
VERSION:2.0
PRODID:-//eventon.com NONSGML v1.0//EN
CALSCALE:GREGORIAN
METHOD:PUBLISH
BEGIN:VEVENT
UID:69e7e78551da3
DTSTAMP:20260421T210925Z
DTSTART:20211126T180000Z
DTEND:20211126T193000Z
LOCATION:
SUMMARY:Csányi Sándor színházi estje | Hogyan értsük félre a nőket?
DESCRIPTION:Felhívjuk látogatóink szíves figyelmét\,  hogy a MOMkult 
 pületében a maszkviselés kötelező! &#8212;&#8212;&#8212;&#8212;&#8212
 ;&#8212;&#8212;&#8212;&#8212;&#8212;&#8212;&#8212;&#8212;&#8212;&#8212;&#82
 12;&#8212;&#8212;&#8212;&#8212;&#8212;&#8212;&#8212;&#8212;&#8212;&#8211; M
 i a teendő\,  ha az ember a szülőszoba ajtajában döbben rá\,  hogy ne
 mcsak a gyerekekkel nem tud bánni\,  de a nőkkel sem? Miért a mi hibánk
 \,  ha Ők rosszat álmodnak? Miért baj\,  ha őszintén válaszolunk arra
  a kérdésre\, [..]\nhttps://momkult.hu/events/csanyi-sandor-szinhazi-estj
 e-hogyan-ertsuk-felre-a-noket-november-26/
URL:https://momkult.hu/events/csanyi-sandor-szinhazi-estje-hogyan-ertsuk-felre-a-noket-november-26/
END:VEVENT
END:VCALENDAR