BEGIN:VCALENDAR
VERSION:2.0
PRODID:-//eventon.com NONSGML v1.0//EN
CALSCALE:GREGORIAN
METHOD:PUBLISH
BEGIN:VEVENT
UID:69e7e78551da3
DTSTAMP:20260421T210925Z
DTSTART:20211121T180000Z
DTEND:20211121T193000Z
LOCATION:
SUMMARY:Csányi Sándor színházi estje | Hogyan értsük félre a nőket?
DESCRIPTION:&nbsp; Felhívjuk látogatóink szíves figyelmét\,  hogy a ma
 szkviselés kötelező! &nbsp; &#8212;&#8212;&#8212;&#8212;&#8212;&#8212;&#
 8212;&#8212;&#8212;&#8212;&#8212;&#8212;&#8212;&#8212;&#8212;&#8212;&#8212;
 &#8212;&#8212;&#8212;&#8212;&#8212;&#8212;&#8212;&#8212;- Mi a teendő\,  h
 a az ember a szülőszoba ajtajában döbben rá\,  hogy nemcsak a gyerekek
 kel nem tud bánni\,  de a nőkkel sem? Miért a mi hibánk\,  ha Ők rossz
 at álmodnak? Miért baj\,  ha őszintén válaszolunk arra a kérdésre\, 
  hogy[..]\nhttps://momkult.hu/events/csanyi-sandor-szinhazi-estje-hogyan-er
 tsuk-felre-a-noket-november-21/
URL:https://momkult.hu/events/csanyi-sandor-szinhazi-estje-hogyan-ertsuk-felre-a-noket-november-21/
END:VEVENT
END:VCALENDAR