BEGIN:VCALENDAR
VERSION:2.0
PRODID:-//eventon.com NONSGML v1.0//EN
CALSCALE:GREGORIAN
METHOD:PUBLISH
BEGIN:VEVENT
UID:69ebb07eba0e1
DTSTAMP:20260424T180342Z
DTSTART:20181006T180000Z
DTEND:20181006T220000Z
LOCATION:
SUMMARY:Brian Culbertson | Jazzy FesztivÃ¡l
DESCRIPTION:A 90.9 Jazzy RÃ¡diÃ³ ismÃ©t elhozza a jazz Ã©s funk sztÃ¡rjait.
  A Jazzy FesztivÃ¡l keretÃ©ben\,  oktÃ³ber 6-Ã¡n fellÃ©p napjaink legismert
 ebb\,  Amerika egyik legnÃ©pszerÅ±bb Ã©s legfunkybb jazz zongoristÃ¡ja\,  B
 rian Culbertson. ElÅ‘zenekar: BarabÃ¡s LÅ‘rinc Ã©s kvartettje\,  akik kÃ¼lÃ
 ¶nleges jazz hangulatot varÃ¡zsolnak a szÃ­npadra. Jazzy FesztivÃ¡l â€“ StÃ
 ­lusos Ã©s szenvedÃ©lyes koncertek 2018-ban is.[..]\nhttps://momkult.hu/eve
 nts/brian-culbertson/
URL:https://momkult.hu/events/brian-culbertson/
END:VEVENT
END:VCALENDAR