BEGIN:VCALENDAR
VERSION:2.0
PRODID:-//eventon.com NONSGML v1.0//EN
CALSCALE:GREGORIAN
METHOD:PUBLISH
BEGIN:VEVENT
UID:69e7f95b568a9
DTSTAMP:20260421T222531Z
DTSTART:20211016T080000Z
DTEND:20211016T120000Z
LOCATION:
SUMMARY:Szülinapi PagonyFeszt
DESCRIPTION:Tartsatok velünk október 16-án 10.00-14.00 óráig a Pagony 
 különleges születésnapi fesztiválján! A belépés 18 év felett véde
 ttségi igazolványhoz kötött. Ha a járványhelyzet miatt az eseményt k
 énytelenek leszünk lemondani\,  a jegyek árát természetesen visszautal
 juk\,  de reméljük\,  hogy erre nem kerül sor! PROGRAM I Kupola terem: 1
 0.00 kapunyitás 10.30 Rutkai Bori Banda[..]\nhttps://momkult.hu/events/szu
 linapi-pagonyfeszt/
URL:https://momkult.hu/events/szulinapi-pagonyfeszt/
END:VEVENT
END:VCALENDAR