BEGIN:VCALENDAR
VERSION:2.0
PRODID:-//eventon.com NONSGML v1.0//EN
CALSCALE:GREGORIAN
METHOD:PUBLISH
BEGIN:VEVENT
UID:69e80dea65d25
DTSTAMP:20260421T235314Z
DTSTART:20211001T110000Z
DTEND:20211001T123000Z
LOCATION:
SUMMARY:IDŐSEK VILÁGNAPJA
DESCRIPTION:A Hegyvidéki Önkormányzat az idősek világnapja alkalmábó
 l kulturális műsorral egybekötött ünnepséget szervez. Időpontja: 202
 1 .október 1. (péntek) 13 óra A rendezvény csak regisztrációs jeggyel
  látogatható. Regisztrációs jegy igényelhető 2021. szeptember 8 – 2
 0. időszakban\,  munkanapokon 9.00 -11.00 óra között. A regisztráció 
 személyesen\,  a XII. kerületi lakóhelyet igazoló lakcímkártya és a[
 ..]\nhttps://momkult.hu/events/momkult-idosek-vilagnapja/
URL:https://momkult.hu/events/momkult-idosek-vilagnapja/
END:VEVENT
END:VCALENDAR