BEGIN:VCALENDAR
VERSION:2.0
PRODID:-//eventon.com NONSGML v1.0//EN
CALSCALE:GREGORIAN
METHOD:PUBLISH
BEGIN:VEVENT
UID:69ebb2267ce9b
DTSTAMP:20260424T181046Z
DTSTART:20181005T180000Z
DTEND:20181005T220000Z
LOCATION:
SUMMARY:Al McKay's Earth\,  Wind and Fire Experience | Jazzy Fesztivál
DESCRIPTION:A 90.9 Jazzy Rádió ismét elhozza a jazz és funk sztárjait.
  Október 5-én fellép Al McKay és az Earth Wind and Fire Experience\,  a
 kik megszólaltatják legendás slágereiket\,  mint a September-t\,  Boogi
 e Wonderland-et\,  Fantasy-t. Előttük fellép a zseniális Sárik Péter 
 Trió és két szólistája\,  Szőke Nikoletta és Luiza Zan. Jazzy Feszti
 vál[..]\nhttps://momkult.hu/events/al-mckays-earth-wind-and-fire-experienc
 e/
URL:https://momkult.hu/events/al-mckays-earth-wind-and-fire-experience/
END:VEVENT
END:VCALENDAR