BEGIN:VCALENDAR
VERSION:2.0
PRODID:-//eventon.com NONSGML v1.0//EN
CALSCALE:GREGORIAN
METHOD:PUBLISH
BEGIN:VEVENT
UID:69e80e6731083
DTSTAMP:20260421T235519Z
DTSTART:20211015T170000Z
DTEND:20211015T183000Z
LOCATION:
SUMMARY:ANYATIGRISEK
DESCRIPTION:A 2021. október 15-i Anyatigrisek előadás Király Linda bete
 gsége miatt elmarad. Az Anyatigrisek című előadás tabuk nélkül\,  re
 ngeteg humorral mutatja meg\,  hogy mit is jelent szülőnek lenni. A zené
 s komédia a &#8222;fekete öves anyukákon&#8221; és a fiatal kismamákon
  túl mindenkit megszólít fergeteges stílusával\,  ami garantáltan job
 b kedvre deríti a nézőt.[..]\nhttps://momkult.hu/events/anyatigrisek-okt
 ober-15/
URL:https://momkult.hu/events/anyatigrisek-oktober-15/
END:VEVENT
END:VCALENDAR