BEGIN:VCALENDAR
VERSION:2.0
PRODID:-//eventon.com NONSGML v1.0//EN
CALSCALE:GREGORIAN
METHOD:PUBLISH
BEGIN:VEVENT
UID:69e80c5399d10
DTSTAMP:20260421T234627Z
DTSTART:20210926T080000Z
DTEND:20210926T130000Z
LOCATION:
SUMMARY:Hegyvidéki Ősz
DESCRIPTION:A Hegyvidéki Ősz programsorozata idén is várja látogatóit
  három helyszínen. A Hegyvidéki Ősz a Hegyvidéki Önkormányzat és a 
 MOMkult közös szervezésében megvalósuló program: MOMkult kert A Vité
 z László Bábjáték-automata egyszerre adja a játék és a színház ut
 ánozhatatlan élményét a Kolibri Színház alapító tagjai\,  Bodnár Z
 oltán és Gazdag László által “üzemeltetve”.[..]\nhttps://momkult.
 hu/events/hegyvidek-osz-momkult/
URL:https://momkult.hu/events/hegyvidek-osz-momkult/
END:VEVENT
END:VCALENDAR