BEGIN:VCALENDAR
VERSION:2.0
PRODID:-//eventon.com NONSGML v1.0//EN
CALSCALE:GREGORIAN
METHOD:PUBLISH
BEGIN:VEVENT
UID:69e80c4eef8ad
DTSTAMP:20260421T234622Z
DTSTART:20211006T170000Z
DTEND:20211006T183000Z
LOCATION:
SUMMARY:ANYATIGRISEK
DESCRIPTION:Az Anyatigrisek című előadás tabuk nélkül\,  rengeteg hum
 orral mutatja meg\,  hogy mit is jelent szülőnek lenni. A zenés komédia
  a &#8222;fekete öves anyukákon&#8221; és a fiatal kismamákon túl mind
 enkit megszólít fergeteges stílusával\,  ami garantáltan jobb kedvre d
 eríti a nézőt. Amy-nek\,  a mindenórás kismamának babaváró bulit re
 ndeznek a barátnői. Barbara\,  az[..]\nhttps://momkult.hu/events/anyatigr
 isek/
URL:https://momkult.hu/events/anyatigrisek/
END:VEVENT
END:VCALENDAR