BEGIN:VCALENDAR
VERSION:2.0
PRODID:-//eventon.com NONSGML v1.0//EN
CALSCALE:GREGORIAN
METHOD:PUBLISH
BEGIN:VEVENT
UID:69ebb3a4f3129
DTSTAMP:20260424T181708Z
DTSTART:20181003T183000Z
DTEND:20181003T203000Z
LOCATION:
SUMMARY:Chameleon Jazz Band feat. Lilienn
DESCRIPTION:A Chameleon Jazz Band őszi nagykoncertjének vendége a számo
 s műfajban otthonosan mozgó\,  fantasztikus hangú fiatal tehetség\,  Ra
 bie Lili\,  azaz művésznevén Lilienn. Bálint Rezső | harsona\,  ének 
 Borbényi Dániel | gitárok Birinyi Márk Ádám | zongora Bartók Vince |
  basszusgitár Telek Attila | ütőhangszerek Különleges vendég Lilienn 
 | ének Bálint Rezső[..]\nhttps://momkult.hu/events/chameleon-jazz-bank-f
 eat-lilienn/
URL:https://momkult.hu/events/chameleon-jazz-bank-feat-lilienn/
END:VEVENT
END:VCALENDAR