BEGIN:VCALENDAR
VERSION:2.0
PRODID:-//eventon.com NONSGML v1.0//EN
CALSCALE:GREGORIAN
METHOD:PUBLISH
BEGIN:VEVENT
UID:69e7d1d551cdd
DTSTAMP:20260421T193653Z
DTSTART:20211202T180000Z
DTEND:20211202T200000Z
LOCATION:
SUMMARY:THE SOUND OF ROMANCE
DESCRIPTION:FelhÃ­vjuk lÃ¡togatÃ³ink szÃ­ves figyelmÃ©t\,  hogy a MOMkult Ã
 ©pÃ¼letÃ©ben aÂ maszkviselÃ©s kÃ¶telezÅ‘! &#8212;&#8212;&#8212;&#8212;&#821
 2;&#8212;&#8212;&#8212;&#8212;&#8212;&#8212;&#8212;&#8212;&#8212;&#8212;&#8
 212;&#8212;&#8212;&#8212;&#8212;&#8212;&#8212;&#8212;&#8212;&#8212;&#8212;&
 #8212;&#8212;&#8212;&#8212;&#8212;&#8212;&#8212;&#8212;&#8212;&#8212;&#8212
 ;&#8212;&#8212;&#8212;&#8212;&#8212;&#8212;&#8212;&#8212;&#8212;&#8212;&#82
 12;&#8212;&#8212;&#8211; Grant Benton Ã©s zenekara a 70-es\,  80-as Ã©s 90-
 es Ã©vek hÃ­res Ã©s mai napig nagyon nÃ©pszerÅ± szerelmes kÃ¼lfÃ¶ldi vilÃ¡g
 slÃ¡gereit adja elÅ‘ estjein. A decemberi koncert sorÃ¡n kÃ©t tucat nosztal
 gikus slÃ¡ger hangzik majd el. A mÅ±sorban az Ã¶rÃ¶kzÃ¶ld dalok kÃ¶zÃ¶tt[..
 ]\nhttps://momkult.hu/events/the-sound-of-romance/
URL:https://momkult.hu/events/the-sound-of-romance/
END:VEVENT
END:VCALENDAR