BEGIN:VCALENDAR
VERSION:2.0
PRODID:-//eventon.com NONSGML v1.0//EN
CALSCALE:GREGORIAN
METHOD:PUBLISH
BEGIN:VEVENT
UID:69e80ca03dfbe
DTSTAMP:20260421T234744Z
DTSTART:20211001
DTEND:20211002
LOCATION:
SUMMARY:VINTAGE IRONS
DESCRIPTION:Ezeknek az &#8222;öreg vasaknak&#8221; lelkük van. Akár rozs
 dásak\,  évtizedek nyomait hordozva\,  akár csillogva\,  régi fényükb
 en. Ezért készítek a szó igazi értelmében portrékat róluk. Nyitott 
 szemmel vadászok fotó-témákra az oldtimer eseményeken. A kompozíció 
 megtalálását követi a digitális grafikai alkotó folyamat\,  amely sor
 án a megkomponált fotóból valódi grafika jön létre. A lényeges[..]\
 nhttps://momkult.hu/events/vintage-irons-kiallitas/
URL:https://momkult.hu/events/vintage-irons-kiallitas/
END:VEVENT
END:VCALENDAR