BEGIN:VCALENDAR
VERSION:2.0
PRODID:-//eventon.com NONSGML v1.0//EN
CALSCALE:GREGORIAN
METHOD:PUBLISH
BEGIN:VEVENT
UID:69e7e748a3141
DTSTAMP:20260421T210824Z
DTSTART:20211105T190000Z
DTEND:20211105T000000Z
LOCATION:
SUMMARY:ZurgÃ³ tÃ¡nchÃ¡z
DESCRIPTION:A MOMkult Ã©pÃ¼letÃ©ben a maszkviselÃ©s kÃ¶telezÅ‘. Moldvai csÃ
 ¡ngÃ³ nÃ©pzene\,  tÃ¡nctanÃ­tÃ¡s\,  daltanÃ­tÃ¡s. Szeretettel vÃ¡rjuk rÃ©gi
  Ã©s Ãºj ismerÅ‘seinket\,  barÃ¡tainkat\,  aÂ ZurgÃ³ EgyÃ¼ttes moldvai csÃ¡
 ngÃ³ magyar tÃ¡nchÃ¡zÃ¡ba. FelnÅ‘tt tÃ¡nchÃ¡z20:00-21:00 | tÃ¡nctanÃ­tÃ¡sÂ 
  21:00-22:00 | tÃ¡nchÃ¡z 22:00-22:20 | Ã©nektanulÃ¡s\,  kÃ¶zÃ¶s Ã©neklÃ©sÂ 
  22:20-22:30 | mese 22:30-00:30 | tÃ¡nchÃ¡z\nhttps://momkult.hu/events/zurg
 o-tanchaz-november/
URL:https://momkult.hu/events/zurgo-tanchaz-november/
END:VEVENT
END:VCALENDAR