BEGIN:VCALENDAR
VERSION:2.0
PRODID:-//eventon.com NONSGML v1.0//EN
CALSCALE:GREGORIAN
METHOD:PUBLISH
BEGIN:VEVENT
UID:69ebb1c49b4a7
DTSTAMP:20260424T180908Z
DTSTART:20181003T180000Z
DTEND:20181003T200000Z
LOCATION:
SUMMARY:SzÃ©csi PÃ¡l emlÃ©kkoncert
DESCRIPTION:Egy titokzatos legenda Ã©s nÃ©hÃ¡ny csodÃ¡latos dalâ€¦ Mujahid 
 ZoltÃ¡n 24 tagÃº zenekar kÃ­sÃ©retÃ©ben minden idÅ‘k egyik legsikeresebb ma
 gyar fÃ©rfi Ã©nekesÃ©nek emlÃ©kÃ©t idÃ©zi fel a MomKult szÃ­npadÃ¡n. SzÃ©cs
 i PÃ¡l korÃ¡nak egyik legnagyobb sztÃ¡rja volt. Ã‰des-bÃºs hangja Ã©s dalai
  a mai napig nÃ©pszerÅ±ek. Mujahid ZoltÃ¡n elÅ‘adÃ¡sÃ¡banAz est sztÃ¡rvendÃ
 ©ge TÃ³th Vera\,  aki egy[..]\nhttps://momkult.hu/events/szecsi-pal-emlekko
 ncert-mujahid-zoltan-eloadasaban/
URL:https://momkult.hu/events/szecsi-pal-emlekkoncert-mujahid-zoltan-eloadasaban/
END:VEVENT
END:VCALENDAR