BEGIN:VCALENDAR
VERSION:2.0
PRODID:-//eventon.com NONSGML v1.0//EN
CALSCALE:GREGORIAN
METHOD:PUBLISH
BEGIN:VEVENT
UID:69e81e2c75eec
DTSTAMP:20260422T010236Z
DTSTART:20210901
DTEND:20210902
LOCATION:
SUMMARY:"Eucharisztia" kiállítás
DESCRIPTION:„A REMÉNY az Ember éltetője\,  cselekedeteinek motorja! A 
 Reményt megelőzi a HIT\,  ami a remény alapja. Az önzetlen\,   a mási
 k javát kereső szeretet  legyen minden tettünk és gondolatunk motorja!
  S ehhez az erőt csak Istentől kaphatjuk\,  aki szeretetből köztünk ma
 radt a Kenyér és a bor színe alatt\,  az Eucharisztiában\,  hogy[..]\nh
 ttps://momkult.hu/events/eucharisztia/
URL:https://momkult.hu/events/eucharisztia/
END:VEVENT
END:VCALENDAR