BEGIN:VCALENDAR
VERSION:2.0
PRODID:-//eventon.com NONSGML v1.0//EN
CALSCALE:GREGORIAN
METHOD:PUBLISH
BEGIN:VEVENT
UID:69e80fcc7e871
DTSTAMP:20260422T000116Z
DTSTART:20210922T170000Z
DTEND:20210922T183000Z
LOCATION:
SUMMARY:LÃ©gy fÃ©rfi! | HadhÃ¡zi LÃ¡szlÃ³ Ã¶nÃ¡llÃ³ estje | mÅ±sorvezetÅ‘: FÃ¼lÃ¶p Viktor
DESCRIPTION:Tisztelt LÃ¡togatÃ³ink! Az elÅ‘adÃ¡s a MOM KulturÃ¡lis KÃ¶zpont
  elÅ‘re meghirdetett\,  belÃ©pÅ‘jegyes\,  Ã¼ltetett\,  kulturÃ¡lis/mÅ±vÃ©sz
 eti esemÃ©nye\,  Ã­gy vÃ©dettsÃ©gi igazolvÃ¡ny nÃ©lkÃ¼l is lÃ¡togathatÃ³. A
  maszk hasznÃ¡lata nem kÃ¶telezÅ‘\,  de tovÃ¡bbra is javasolt. EgyÃ¼ttmÅ±kÃ
 ¶dÃ©sÃ¼ket kÃ¶szÃ¶njÃ¼k! â€”â€”â€”â€”â€”â€”â€“ Kik azok a hapsik\,  Ã©s hov
 Ã¡ tartanak? Mi az a fÃ©rfias viselkedÃ©s Ã©s kinek jÃ³ az? Mik az[..]\nhtt
 ps://momkult.hu/events/legy-ferfi-hadhazi-laszlo-onallo-estje-musorvezeto-f
 ulop-viktor/
URL:https://momkult.hu/events/legy-ferfi-hadhazi-laszlo-onallo-estje-musorvezeto-fulop-viktor/
END:VEVENT
END:VCALENDAR