BEGIN:VCALENDAR
VERSION:2.0
PRODID:-//eventon.com NONSGML v1.0//EN
CALSCALE:GREGORIAN
METHOD:PUBLISH
BEGIN:VEVENT
UID:69e830298496c
DTSTAMP:20260422T021921Z
DTSTART:20210823
DTEND:20210824
LOCATION:
SUMMARY:Néptánctábor általános iskolás gyerekeknek
DESCRIPTION:augusztus 23-27-ig a MOMKULT-ban. Jelentkezni és érdeklődni 
 lehet: Bettenbuk Krisztina művészeti vezetőnél. telefon: 00 36 30 478 3
 349 email: jokaineptanccsoport@gmail.com\nhttps://momkult.hu/events/neptanc
 tabor-altalanos-iskolas-gyerekeknek/
URL:https://momkult.hu/events/neptanctabor-altalanos-iskolas-gyerekeknek/
END:VEVENT
END:VCALENDAR