BEGIN:VCALENDAR
VERSION:2.0
PRODID:-//eventon.com NONSGML v1.0//EN
CALSCALE:GREGORIAN
METHOD:PUBLISH
BEGIN:VEVENT
UID:69e82ff0c6301
DTSTAMP:20260422T021824Z
DTSTART:20210904T090000Z
DTEND:20210904T100000Z
LOCATION:
SUMMARY:Zenés foglalkozás Nagy Mária vezetésével\,  közreműködik Matuz Gergely
DESCRIPTION:Interaktív zenés foglalkozással\,  hangszerbemutatóval\,  j
 átékokkal\,  tánccal és énekekkel várjuk gyermekeket és szüleiket! 
 11:00 órától a kisiskolások számára  tartunk foglalkozást a MOMKult
  kupolatermében. A nagyobbaknak Nagy Mária 11:00 órától tart zenés fo
 glalkozást\,  Matuz Gergely fuvolaművész közreműködésével. Kisiskol
 ás gyermekek részére ajánlott a hangszerbemutató\,  melyben közvetlen
  közelségből láthatnak egy-egy hangszert egy közös zenei[..]\nhttps:/
 /momkult.hu/events/zenes-gyerekprogram-nagyobbak/
URL:https://momkult.hu/events/zenes-gyerekprogram-nagyobbak/
END:VEVENT
END:VCALENDAR