BEGIN:VCALENDAR
VERSION:2.0
PRODID:-//eventon.com NONSGML v1.0//EN
CALSCALE:GREGORIAN
METHOD:PUBLISH
BEGIN:VEVENT
UID:69ebb2cba0a34
DTSTAMP:20260424T181331Z
DTSTART:20181002T090000Z
DTEND:20181002T100000Z
LOCATION:
SUMMARY:A holdkirály palotája | Aranyszamár Bábszínház
DESCRIPTION:“Laimét a Holdkirály magával ragadta\,  fekete várába h
 t lakattal zárta. Nyergeld fel lovadat\,  indulj messzi útra\,  fel az 
 gbe\,  alá a tengerbe\,  a látóhatáron túlra…” Te is segíthetsz 
 kiszabadítani a szépséges leányt: locsogj\,  mint a tenger\,  kopogj\, 
  mint a kövek\,  ciripelj\,  mint a kabócák\,  s meglátod\,  a szerelme
 sek újra egymásra[..]\nhttps://momkult.hu/events/a-holdkiraly-palotaja-ar
 anyszamar-babszinhaz/
URL:https://momkult.hu/events/a-holdkiraly-palotaja-aranyszamar-babszinhaz/
END:VEVENT
END:VCALENDAR