BEGIN:VCALENDAR
VERSION:2.0
PRODID:-//eventon.com NONSGML v1.0//EN
CALSCALE:GREGORIAN
METHOD:PUBLISH
BEGIN:VEVENT
UID:69e81df36e6d9
DTSTAMP:20260422T010139Z
DTSTART:20210904T080000Z
DTEND:20210904T084500Z
LOCATION:
SUMMARY:Zenés foglalkozás Znamenák Rita vezetésével
DESCRIPTION:Interaktív zenés foglalkozással\,  hangszerbemutatóval\,  j
 átékokkal\,  tánccal és énekekkel várjuk a gyermekeket és szüleiket
 ! 10:00 órától az óvódások számára tartunk foglalkozást a MOMKult 
 kupolatermében. A kisebbekkel 10:00 órától Znamenák Rita zongora taná
 r és zenés foglalkozás vezető magyar gyermekdalokat\,  illetve népdalo
 kat énekel. Az interaktív foglalkozáson különböző hangszerekkel isme
 rkedhetnek meg (pl. fuvola\,  furulya\, [..]\nhttps://momkult.hu/events/zen
 es-gyerekprogram-a-mom-kupolatermeben/
URL:https://momkult.hu/events/zenes-gyerekprogram-a-mom-kupolatermeben/
END:VEVENT
END:VCALENDAR