BEGIN:VCALENDAR
VERSION:2.0
PRODID:-//eventon.com NONSGML v1.0//EN
CALSCALE:GREGORIAN
METHOD:PUBLISH
BEGIN:VEVENT
UID:69e81e2c1df33
DTSTAMP:20260422T010236Z
DTSTART:20210904T170000Z
DTEND:20210904T193000Z
LOCATION:
SUMMARY:Isten bolondja - Berecz András ének- és mesemondó estje
DESCRIPTION:Shakespeare a bolondban (jester) bölcset lát\,  és sokszor 
 ppen a bölccsel állítja szembe. Alig van drámája\,  amelyikben ne mag
 asztalná fel az udvari bolondot\,  bohócot. Sok ember meghökkentő\,  k
 méletlen igazságát a bolond szájára adja. Ő az\,  aki nem tud másk
 pp\,  csak szőr ellenében simogatni. Nem a vidámsága kacagtat. Pontos 
 ítéletei\,  váratlan[..]\nhttps://momkult.hu/events/isten-bolondja-berec
 z-andras/
URL:https://momkult.hu/events/isten-bolondja-berecz-andras/
END:VEVENT
END:VCALENDAR