BEGIN:VCALENDAR
VERSION:2.0
PRODID:-//eventon.com NONSGML v1.0//EN
CALSCALE:GREGORIAN
METHOD:PUBLISH
BEGIN:VEVENT
UID:69e81df2d1ec7
DTSTAMP:20260422T010138Z
DTSTART:20210907T180000Z
DTEND:20210907T193000Z
LOCATION:
SUMMARY:ESZTETT
DESCRIPTION:Sok színpadon töltött év és több nagylemez után összeá
 llt Kárász Eszter vadonatúj zenekara\,  az Esztett és elkészültek né
 hány világsláger magyar feldolgozása mellett a zenekar saját dalai\,  
 amelyek a könnyűzene\,  a rock and roll\,  a szving\,  a balkáni ritmuso
 k és a világzene sokféle stílusából merítenek. A dalok szövegeit a 
 körülöttünk és[..]\nhttps://momkult.hu/events/eszter-the-band/
URL:https://momkult.hu/events/eszter-the-band/
END:VEVENT
END:VCALENDAR