BEGIN:VCALENDAR
VERSION:2.0
PRODID:-//eventon.com NONSGML v1.0//EN
CALSCALE:GREGORIAN
METHOD:PUBLISH
BEGIN:VEVENT
UID:69ebf64566d45
DTSTAMP:20260424T230125Z
DTSTART:20180915T180000Z
DTEND:20180915T200000Z
LOCATION:
SUMMARY:Ã‰s mÃ¡r senki sem [tÃ­z kicsi nÃ©ger]
DESCRIPTION:MagÃ¡nyos sziget az angliai partok mentÃ©n. TÃ­z ember Ã©rkezik
 . EgymÃ¡s szÃ¡mÃ¡ra ismeretlenek\,  de hamar kiderÃ¼l\,  van bennÃ¼k valami
  nagyon is kÃ¶zÃ¶s vonÃ¡s. MindegyikÃ¼k mÃºltjÃ¡ban ott egy sÃ¶tÃ©t folt. Ã
 ‰s a feltÃ©telezett gyilkosok szÃ©pen\,  sorban Ã¡ldozattÃ¡ vÃ¡lnakâ€¦ A kr
 imi kirÃ¡lynÅ‘jÃ©nek legnÃ©pszerÅ±bb Ã­rÃ¡sa mÃ¡r nÃ©hÃ¡ny Ã©vvel megjelenÃ
 ©se utÃ¡n meghÃ³dÃ­totta a szÃ­npadot. Ezt[..]\nhttps://momkult.hu/events/e
 s-mar-senki-sem-tiz-kicsi-neger/
URL:https://momkult.hu/events/es-mar-senki-sem-tiz-kicsi-neger/
END:VEVENT
END:VCALENDAR