BEGIN:VCALENDAR
VERSION:2.0
PRODID:-//eventon.com NONSGML v1.0//EN
CALSCALE:GREGORIAN
METHOD:PUBLISH
BEGIN:VEVENT
UID:69e82f3c0253a
DTSTAMP:20260422T021524Z
DTSTART:20210804T180000Z
DTEND:20210804T193000Z
LOCATION:
SUMMARY:Kéri Samu | Diplomakoncert
DESCRIPTION:Zenekar: Nagy János – zongora Kézdy Luca – hegedű Gudics
  Marcell &#8211; dobok Mogyoró Kornél – ütőhangszerek Szabó Csobán 
 Gergő – ütőgardon Zenekar: Nagy János &#8211; zongora Kézdy Luca &#8
 211; hegedű Gudics Marcell &#8211; dobok Mogyoró Kornél &#8211; ütőhan
 gszerek Szabó Csobán Gergő &#8211; ütőgardon\nhttps://momkult.hu/event
 s/keri-samu-diplomakoncert/
URL:https://momkult.hu/events/keri-samu-diplomakoncert/
END:VEVENT
END:VCALENDAR