BEGIN:VCALENDAR
VERSION:2.0
PRODID:-//eventon.com NONSGML v1.0//EN
CALSCALE:GREGORIAN
METHOD:PUBLISH
BEGIN:VEVENT
UID:69e81dd3b2fa3
DTSTAMP:20260422T010107Z
DTSTART:20210910T170000Z
DTEND:20210910T183000Z
LOCATION:
SUMMARY:SÃ¡rik PÃ©ter TriÃ³ & Falusi Mariann | JazzkÃ­vÃ¡nsÃ¡gmÅ±sor magyarul 2.
DESCRIPTION:Tisztelt LÃ¡togatÃ³ink! Az elÅ‘adÃ¡s a MOMkult elÅ‘re meghirdet
 ett\,  belÃ©pÅ‘jegyes\,  Ã¼ltetett\,  kulturÃ¡lis/mÅ±vÃ©szeti esemÃ©nye\,  
 Ã­gy vÃ©dettsÃ©gi igazolvÃ¡ny nÃ©lkÃ¼l is lÃ¡togathatÃ³. A maszk hasznÃ¡lat
 a nem kÃ¶telezÅ‘\,  de tovÃ¡bbra is javasolt. EgyÃ¼ttmÅ±kÃ¶dÃ©sÃ¼ket kÃ¶szÃ
 ¶njÃ¼k! FolytatÃ³dik a SÃ¡rik PÃ©ter TriÃ³ Fonogram-dÃ­jas sikersorozata\, 
  a JazzkÃ­vÃ¡nsÃ¡gmÅ±sor magyarul! Az Ãºj albumon ismÃ©t magyar slÃ¡gerek j
 azz-feldolgozÃ¡sai hallhatÃ³k\,  melyeket most is[..]\nhttps://momkult.hu/e
 vents/sarik-peter-trio-falusi-mariann-jazzkivansagmusor-magyarul-2/
URL:https://momkult.hu/events/sarik-peter-trio-falusi-mariann-jazzkivansagmusor-magyarul-2/
END:VEVENT
END:VCALENDAR