BEGIN:VCALENDAR
VERSION:2.0
PRODID:-//eventon.com NONSGML v1.0//EN
CALSCALE:GREGORIAN
METHOD:PUBLISH
BEGIN:VEVENT
UID:69e82f3bb92d0
DTSTAMP:20260422T021523Z
DTSTART:20210811T190000Z
DTEND:20210811T204000Z
LOCATION:
SUMMARY:Sully - Csoda a Hudson folyón | Mozi.kert
DESCRIPTION:Az előadás a MOM Kulturális Központ előre meghirdetett\, 
  belépőjegyes\,  ültetett\,  kulturális/művészeti eseménye\,  véde
 ttségi igazolvány nélkül is látogatható. A maszk használata nem kö
 telező\,  de továbbra is javasolt. Együttműködésüket köszönjük! S
 zabadtéri mozizás a MOMkult kertjében; székek\,  padok\,  csillagok… 
 s ha a vendégek hoznak\,  pokrócok. 2009 telén az egész világ egy csod
 a lázában égett: egy kiváló[..]\nhttps://momkult.hu/events/sully-csoda
 -a-hudson-folyon-mozi-kert/
URL:https://momkult.hu/events/sully-csoda-a-hudson-folyon-mozi-kert/
END:VEVENT
END:VCALENDAR