BEGIN:VCALENDAR
VERSION:2.0
PRODID:-//eventon.com NONSGML v1.0//EN
CALSCALE:GREGORIAN
METHOD:PUBLISH
BEGIN:VEVENT
UID:69e82f3c7ee24
DTSTAMP:20260422T021524Z
DTSTART:20210729T190000Z
DTEND:20210729T204500Z
LOCATION:
SUMMARY:A dzsungel könyve | Mozi.kert
DESCRIPTION:Az előadás a MOM Kulturális Központ előre meghirdetett\, 
  belépőjegyes\,  ültetett\,  kulturális/művészeti eseménye\,  véde
 ttségi igazolvány nélkül is látogatható. A maszk használata nem kö
 telező\,  de továbbra is javasolt. Együttműködésüket köszönjük! S
 zabadtéri mozizás a MOMkult kertjében; székek\,  padok\,  csillagok… 
 s ha a vendégek hoznak\,  pokrócok. A Vasembert is jegyző Jon Favreau ez
 úttal Rudyard Kipling klasszikusából forgatott[..]\nhttps://momkult.hu/e
 vents/a-dzsungel-konyve-mozi-kert/
URL:https://momkult.hu/events/a-dzsungel-konyve-mozi-kert/
END:VEVENT
END:VCALENDAR