BEGIN:VCALENDAR
VERSION:2.0
PRODID:-//eventon.com NONSGML v1.0//EN
CALSCALE:GREGORIAN
METHOD:PUBLISH
BEGIN:VEVENT
UID:69e84194828ff
DTSTAMP:20260422T033340Z
DTSTART:20210703T160000Z
DTEND:20210703T173000Z
LOCATION:
SUMMARY:„MŰVÉSZET\,  KULTÚRA\,  IFJÚSÁG” | PREMIER MŰVÉSZETI SZAKGIMNÁZIUM 10 éves jubileumi koncertje
DESCRIPTION:Az előadás során  a zene és a tánc területén elismert m
 űvészek mutatkoznak be fiatal tehetséges tanítványaikkal.\nhttps://mom
 kult.hu/events/muveszet-kultura-ifjusag-premier-muveszeti-szakgimnazium-10-
 eves-jubileumi-koncertje/
URL:https://momkult.hu/events/muveszet-kultura-ifjusag-premier-muveszeti-szakgimnazium-10-eves-jubileumi-koncertje/
END:VEVENT
END:VCALENDAR