BEGIN:VCALENDAR
VERSION:2.0
PRODID:-//eventon.com NONSGML v1.0//EN
CALSCALE:GREGORIAN
METHOD:PUBLISH
BEGIN:VEVENT
UID:69ebb2267ce9b
DTSTAMP:20260424T181046Z
DTSTART:20180930T170000Z
DTEND:20180930T183000Z
LOCATION:
SUMMARY:Bilicsi-díj 2018
DESCRIPTION:Bilicsi Tivadar 2001-ben lett volna száz éves. Ebből az alka
 lomból lányai és családja megalapították a BILICSI DÍJ-at\,  melyet 
 azóta minden évben kiosztanak. Ebből az alkalomból V. Majzik Mária szo
 brászművész készítette a kis szobrot. A családi kuratórium minden é
 v szeptemberében adja át a díjat. Díjazott lehet az a művész\,  aki 
 [..]\nhttps://momkult.hu/events/bilicsi-dij-2018/
URL:https://momkult.hu/events/bilicsi-dij-2018/
END:VEVENT
END:VCALENDAR