BEGIN:VCALENDAR
VERSION:2.0
PRODID:-//eventon.com NONSGML v1.0//EN
CALSCALE:GREGORIAN
METHOD:PUBLISH
BEGIN:VEVENT
UID:69e7d1d57e46f
DTSTAMP:20260421T193653Z
DTSTART:20211206T170000Z
DTEND:20211206T183000Z
LOCATION:
SUMMARY:LÃ©gy fÃ©rfi! | HadhÃ¡zi LÃ¡szlÃ³ Ã¶nÃ¡llÃ³ estje\,  mÅ±sorvezetÅ‘: Musimbe Dennis
DESCRIPTION:FelhÃ­vjuk lÃ¡togatÃ³ink szÃ­ves figyelmÃ©t\,  hogy a MOMkult Ã
 ©pÃ¼letÃ©ben a maszkviselÃ©s kÃ¶telezÅ‘! â€”â€”â€”â€”â€”â€”â€“ Kik azok a h
 apsik\,  Ã©s hovÃ¡ tartanak? Mi az a fÃ©rfias viselkedÃ©s Ã©s kinek jÃ³ az?
  Mik az elvÃ¡rÃ¡sok egy fickÃ³val szemben? Van-e kÃ¼lÃ¶nbsÃ©g a pasis Ã©s a
  csajos viselkedÃ©s kÃ¶zÃ¶tt? JÃ¶nnek a krapekok Ã©s a menÅ‘ pacÃ¡kok.[..]\
 nhttps://momkult.hu/events/legy-ferfi-hadhazi-laszlo-onallo-estje-musorveze
 to-musimbe-dennis/
URL:https://momkult.hu/events/legy-ferfi-hadhazi-laszlo-onallo-estje-musorvezeto-musimbe-dennis/
END:VEVENT
END:VCALENDAR