BEGIN:VCALENDAR
VERSION:2.0
PRODID:-//eventon.com NONSGML v1.0//EN
CALSCALE:GREGORIAN
METHOD:PUBLISH
BEGIN:VEVENT
UID:69e83045be00f
DTSTAMP:20260422T021949Z
DTSTART:20210808T170000Z
DTEND:20210808T183000Z
LOCATION:
SUMMARY:Mészáros János Elek és a Cantores Ecclesiae Rézfúvós Együttes koncertje
DESCRIPTION:A Klassz.lépcső egy különleges atmoszférájú\,  szabadté
 ri\,  nyári programsorozat\,  mely 2016-ban indult a MOMkult szervezéséb
 en. A Sirály sétány lépcsőin\,  párnákon ülve\,  hangulatos nyári 
 estéket tölthet el minden zeneszerető\,  rálátással a Gesztenyés ker
 tre. A rendezvény társszervezője a Bach Mindenkinek Fesztivál. Mészár
 os János Elek\,  azon kevesek egyike\,  aki okleveles agrármérnök és t
 alajtani szakmérnökként[..]\nhttps://momkult.hu/events/meszaros-janos-el
 ek-es-a-cantores-ecclesiae-rezfuvos-egyuttes-koncertje/
URL:https://momkult.hu/events/meszaros-janos-elek-es-a-cantores-ecclesiae-rezfuvos-egyuttes-koncertje/
END:VEVENT
END:VCALENDAR