BEGIN:VCALENDAR
VERSION:2.0
PRODID:-//eventon.com NONSGML v1.0//EN
CALSCALE:GREGORIAN
METHOD:PUBLISH
BEGIN:VEVENT
UID:69ebb1d90a211
DTSTAMP:20260424T180929Z
DTSTART:20180930T090000Z
DTEND:20180930T100000Z
LOCATION:
SUMMARY:Halász Judit koncert
DESCRIPTION:Halász Judit magyar költők verseit közel harminc éve ének
 li a hazai könnyűzene legjobbjainak megzenésítésében a gyerekeknek\, 
  akik a művésznőt Magyarországon elsőként a Mosoly-Rend lovagjának v
 álasztották. A HŐSZ nyitókoncertje hagyományosan immár 16 éve az elm
 aradhatatlan Halász Judit koncert.\nhttps://momkult.hu/events/halasz-judit
 -koncert/
URL:https://momkult.hu/events/halasz-judit-koncert/
END:VEVENT
END:VCALENDAR