BEGIN:VCALENDAR
VERSION:2.0
PRODID:-//eventon.com NONSGML v1.0//EN
CALSCALE:GREGORIAN
METHOD:PUBLISH
BEGIN:VEVENT
UID:69e841cdb8232
DTSTAMP:20260422T033437Z
DTSTART:20210620T170000Z
DTEND:20210620T183000Z
LOCATION:
SUMMARY:Bábel Klára hárfaművész és a Sounds of Bábel koncertje
DESCRIPTION:A Klassz.lépcső egy különleges atmoszférájú\,  szabadté
 ri\,  nyári programsorozat\,  mely 2016-ban indult a MOMkult szervezéséb
 en. A Sirály sétány lépcsőin\,  párnákon ülve\,  hangulatos nyári 
 estéket tölthet el minden zeneszerető\,  rálátással a Gesztenyés ker
 tre. A rendezvény társszervezője a Bach Mindenkinek Fesztivál. A Sounds
  of Bábel formáció egy baráti beszélgetések alkalmával fogalmazódot
 t meg. Habár[..]\nhttps://momkult.hu/events/babel-klara-harfamuvesz-es-a-s
 ounds-of-babel-koncertje-klassz-lepcso/
URL:https://momkult.hu/events/babel-klara-harfamuvesz-es-a-sounds-of-babel-koncertje-klassz-lepcso/
END:VEVENT
END:VCALENDAR