BEGIN:VCALENDAR
VERSION:2.0
PRODID:-//eventon.com NONSGML v1.0//EN
CALSCALE:GREGORIAN
METHOD:PUBLISH
BEGIN:VEVENT
UID:69e840ed97a8d
DTSTAMP:20260422T033053Z
DTSTART:20210707T173000Z
DTEND:20210707T190000Z
LOCATION:
SUMMARY:Concerto Nyárestek
DESCRIPTION:A Nyárestek főszereplői a bécsi klasszika óriásai\,  Moza
 rt és Beethoven lesznek. Keller András és a Concerto Budapest elsősorba
 n az egészségügyben dolgozóknak ajánlja a koncerteket. július 7. 19:3
 0 Mozart egy kevéssé ismert operája\,  A színigazgató nyitány csendü
 l fel elsőként\,  utána az A-dúr zongoraverseny (K.414) Várjon Déness
 el. Akoncert egyik fénypontja Beethoven VIII. szimfóniája[..]\nhttps://
 momkult.hu/events/concerto-nyarestek-3/
URL:https://momkult.hu/events/concerto-nyarestek-3/
END:VEVENT
END:VCALENDAR