BEGIN:VCALENDAR
VERSION:2.0
PRODID:-//eventon.com NONSGML v1.0//EN
CALSCALE:GREGORIAN
METHOD:PUBLISH
BEGIN:VEVENT
UID:69e8403632515
DTSTAMP:20260422T032750Z
DTSTART:20210625T173000Z
DTEND:20210625T190000Z
LOCATION:
SUMMARY:Concerto Nyárestek
DESCRIPTION:A Nyárestek főszereplői a bécsi klasszika óriásai\,  Moza
 rt és Beethoven lesznek. Keller András és a Concerto Budapest elsősorba
 n az egészségügyben dolgozóknak ajánlja a koncerteket. Június 25. 19:
 30 Mozart nyitánnyal indul az este. A Cosí fan tutte\,  vagyis a Mind íg
 y csinálják címet viselő opera szellemesen\,  a zeneszerzőre jellemző
  játékossággal mutatja[..]\nhttps://momkult.hu/events/concerto-nyarestek
 -2/
URL:https://momkult.hu/events/concerto-nyarestek-2/
END:VEVENT
END:VCALENDAR