BEGIN:VCALENDAR
VERSION:2.0
PRODID:-//eventon.com NONSGML v1.0//EN
CALSCALE:GREGORIAN
METHOD:PUBLISH
BEGIN:VEVENT
UID:69e8415b48dad
DTSTAMP:20260422T033243Z
DTSTART:20210617T173000Z
DTEND:20210617T193000Z
LOCATION:
SUMMARY:Concerto Nyárestek
DESCRIPTION:A Nyárestek főszereplői a bécsi klasszika óriásai\,  Moza
 rt és Beethoven lesznek. Keller András és a Concerto Budapest elsősorba
 n az egészségügyben dolgozóknak ajánlja a koncerteket. június 17. 19:
 30 Mozart legnépszerűbb műveiből áll össze a műsor. A Figaro házas
 sága című opera nyitányával kezdődik az este\,  amelynek lendületes
  zenéje hűen tükrözi a bolondos mű cselekményét.[..]\nhttps://momkul
 t.hu/events/concerto-nyarestek/
URL:https://momkult.hu/events/concerto-nyarestek/
END:VEVENT
END:VCALENDAR