BEGIN:VCALENDAR
VERSION:2.0
PRODID:-//eventon.com NONSGML v1.0//EN
CALSCALE:GREGORIAN
METHOD:PUBLISH
BEGIN:VEVENT
UID:69ebb265d9fb0
DTSTAMP:20260424T181149Z
DTSTART:20180929T190000Z
DTEND:20180929T210000Z
LOCATION:
SUMMARY:Damien Rice
DESCRIPTION:KAPUNYITÁS: 19.00 Damien Rice a folk- és indie rock egyik meg
 határozó előadója\,  először érkezik Budapestre. Az ír zenész ősz
 i turnéja szeptember 29-én kanyarodik Magyarországra\,  és a MOMkult 
 falai között várja a hazai közönséget. Damien Rice több mint 25 éve
  aktív részese a zenei világnak. Ez idő alatt először a Juniper nevű
  rock[..]\nhttps://momkult.hu/events/damien-rice/
URL:https://momkult.hu/events/damien-rice/
END:VEVENT
END:VCALENDAR