BEGIN:VCALENDAR
VERSION:2.0
PRODID:-//eventon.com NONSGML v1.0//EN
CALSCALE:GREGORIAN
METHOD:PUBLISH
BEGIN:VEVENT
UID:69e8415bf1603
DTSTAMP:20260422T033243Z
DTSTART:20210710T160000Z
DTEND:20210710T180000Z
LOCATION:
SUMMARY:Balázs Elemér | Liszt és Chopin estje
DESCRIPTION:A legnagyobb klasszikus zeneszerzők jelentős zongoraművei ha
 ngzanak el egy olyan fiatalember előadásában\,  aki a magyar jazz elisme
 rt képviselőinek családjába született. Ez önmagában igazi kuriózumn
 ak számít\,  de tovább növeli a szólókoncert érdekességét\,  hogy 
 Ifj. Balázs Elemér előadásmódja olyan karizmatikus zenei élményt íg
 ér\,  amire a közönség jó eséllyel fog hosszú ideig kellemesen[..]\n
 https://momkult.hu/events/balazs-elemer-liszt-es-chopin-estje/
URL:https://momkult.hu/events/balazs-elemer-liszt-es-chopin-estje/
END:VEVENT
END:VCALENDAR