BEGIN:VCALENDAR
VERSION:2.0
PRODID:-//eventon.com NONSGML v1.0//EN
CALSCALE:GREGORIAN
METHOD:PUBLISH
BEGIN:VEVENT
UID:69e7e748a90f2
DTSTAMP:20260421T210824Z
DTSTART:20211127T180000Z
DTEND:20211127T200000Z
LOCATION:
SUMMARY:Ã“piumkeringÅ‘ | Modern Art Orchestra koncert
DESCRIPTION:FelhÃ­vjuk lÃ¡togatÃ³ink szÃ­ves figyelmÃ©t\,  hogy a MOMkult Ã
 ©pÃ¼letÃ©ben a maszkviselÃ©s kÃ¶telezÅ‘! A Modern Art Orchestra egy kÃ¼lÃ¶n
 leges egÃ©sz estÃ©s jazz-storyval szerepel a ZsiMÃ¼ mÃ¡jusi mÅ±sorÃ¡ban. Ez
  az este nem csak koncert\,  hanem szÃ­nhÃ¡z is\,  Ã©s nem csupÃ¡n szÃ­nhÃ¡
 z\,  hanem koncert is. EzÃ©rt az Ã“piumkeringÅ‘ nem monodrÃ¡ma zenÃ©vel\,  
 hanem egy sokszereplÅ‘s[..]\nhttps://momkult.hu/events/opiumkeringo-modern-
 art-orchestra-koncert/
URL:https://momkult.hu/events/opiumkeringo-modern-art-orchestra-koncert/
END:VEVENT
END:VCALENDAR