BEGIN:VCALENDAR
VERSION:2.0
PRODID:-//eventon.com NONSGML v1.0//EN
CALSCALE:GREGORIAN
METHOD:PUBLISH
BEGIN:VEVENT
UID:69e82f9417352
DTSTAMP:20260422T021652Z
DTSTART:20210907T180000Z
DTEND:20210907T193000Z
LOCATION:
SUMMARY:Boldogan élünk míg meg nem halunk? | Kepes András est
DESCRIPTION:Az előadás új időpontban\,  2021. 09. 07-én kerül megrend
 ezésre. (eredeti időpont: 2020. 11. 23.\,    eredeti új időpont: 2021
 .05.26.\,  új időpont: 2021.09.07.) Kedves Jegyvásárlóink! A május 2
 6-i  20.00- kor kezdődő Boldogan élünk míg meg nem halunk? | Kepes An
 drás est a járványhelyzet miatt új időpontban kerül megrendezésre!
  Az új időpont: 2021. szeptember 07. 20:00\,  az előadás[..]\nhttps:/
 /momkult.hu/events/boldogan-elunk-mig-meg-nem-halunk-kepes-andras-est-2/
URL:https://momkult.hu/events/boldogan-elunk-mig-meg-nem-halunk-kepes-andras-est-2/
END:VEVENT
END:VCALENDAR