BEGIN:VCALENDAR
VERSION:2.0
PRODID:-//eventon.com NONSGML v1.0//EN
CALSCALE:GREGORIAN
METHOD:PUBLISH
BEGIN:VEVENT
UID:69ebb147b4d14
DTSTAMP:20260424T180703Z
DTSTART:20180928T180000Z
DTEND:20180928T193000Z
LOCATION:
SUMMARY:Sasi majdnem 61 koncert
DESCRIPTION:Sasvári Sándor 2018. szeptember 28-án lesz majdnem 61 éves.
  Ezen apropóból zenekarával koncertet ad a MOMkultban. Sasvári Sándor 
 színész\,  énekes\,  lovas és büszke családapa. A közönség számta
 lan színpadon és szerepben láthattuk már Magyarországon és határon t
 úl is. Repertoárja több száz dalt tartalmaz a legismertebb musicalekbő
 l\,  világslágerekből és saját dalaiból. A[..]\nhttps://momkult.hu/ev
 ents/sasi-majdnem-61-koncert/
URL:https://momkult.hu/events/sasi-majdnem-61-koncert/
END:VEVENT
END:VCALENDAR