BEGIN:VCALENDAR
VERSION:2.0
PRODID:-//eventon.com NONSGML v1.0//EN
CALSCALE:GREGORIAN
METHOD:PUBLISH
BEGIN:VEVENT
UID:69e841951132f
DTSTAMP:20260422T033341Z
DTSTART:20210617T173000Z
DTEND:20210617T190000Z
LOCATION:
SUMMARY:CSORDÁS KLÁRA és a GRAZIOSO Kamaraegyüttes koncertje
DESCRIPTION:TÁMOGATÓK: fotó: Felvégi Andrea CSORDÁS KLÁRA – mezzosz
 oprán GRAZIOSO Kamaraegyüttes Bach\,  Handel\,  Mozart \,  Schubert\,  Br
 uckner\nhttps://momkult.hu/events/csordas-klara-es-a-grazioso-kamaraegyutte
 s-koncertje/
URL:https://momkult.hu/events/csordas-klara-es-a-grazioso-kamaraegyuttes-koncertje/
END:VEVENT
END:VCALENDAR