BEGIN:VCALENDAR
VERSION:2.0
PRODID:-//eventon.com NONSGML v1.0//EN
CALSCALE:GREGORIAN
METHOD:PUBLISH
BEGIN:VEVENT
UID:69e85643768c0
DTSTAMP:20260422T050155Z
DTSTART:20210525
DTEND:20210526
LOCATION:
SUMMARY:Beltéri rendezvények
DESCRIPTION:Az alábbi\,  a MOM Kulturális Központ által előre meghirde
 tett\,  belépőjegyes\,  ültetett\,  kulturális/művészeti eseményei 
 védettségi igazolvány nélkül is látogathatóak: &#8211; Csányi Sánd
 or színházi előadásai; &#8211; Illúzió Mesterei c. előadások; &#821
 1; Dumaszínház előadásai. Minden más program esetén\,  amelyek a Korm
 . rendelet szerinti „egyéb rendezvény” kategóriába tartozik\,  a v
 dettségi igazolványra továbbra is szükség lesz a[..]\nhttps://momkul
 t.hu/events/belteri-rendezvenyek/
URL:https://momkult.hu/events/belteri-rendezvenyek/
END:VEVENT
END:VCALENDAR