BEGIN:VCALENDAR
VERSION:2.0
PRODID:-//eventon.com NONSGML v1.0//EN
CALSCALE:GREGORIAN
METHOD:PUBLISH
BEGIN:VEVENT
UID:69e82f996ec64
DTSTAMP:20260422T021657Z
DTSTART:20210728T170000Z
DTEND:20210728T183000Z
LOCATION:
SUMMARY:Csík János és az Esszencia Produkció
DESCRIPTION:Az előadás a MOM Kulturális Központ előre meghirdetett\, 
  belépőjegyes\,  ültetett\,  kulturális/művészeti eseménye\,  véde
 ttségi igazolvány nélkül is látogatható. A maszk használata nem kö
 telező\,  de továbbra is javasolt. Együttműködésüket köszönjük! &
 nbsp; A 2015-ben alakult Esszencia Produkció születésnapi koncertje. Ven
 dég: CSÍK JÁNOS\,  a zenekar alapítója Népzene\,  klasszikus zene és
  jazz: idős és fiatal\,  régi és új\, [..]\nhttps://momkult.hu/events/
 esszencia-koncert/
URL:https://momkult.hu/events/esszencia-koncert/
END:VEVENT
END:VCALENDAR