BEGIN:VCALENDAR
VERSION:2.0
PRODID:-//eventon.com NONSGML v1.0//EN
CALSCALE:GREGORIAN
METHOD:PUBLISH
BEGIN:VEVENT
UID:69e843f6a739f
DTSTAMP:20260422T034350Z
DTSTART:20210611T170000Z
DTEND:20210611T183000Z
LOCATION:
SUMMARY:Csányi Sándor színházi estje | Hogyan értsük félre a nőket?
DESCRIPTION:Tisztelt Jegyvásárló! &#8222;A 2020.12.03-án\,  2020.12.13-
 án és 2020.12.23-án elmaradt Csányi Sándor: Hogyan értsük félre a n
 őket? című előadásának pótlása 2021.06.11-én 19:00 órakor kerül 
 megrendezésre. A megvásárolt jegyek automatikusan érvényesek az új id
 őpontra\,   vagy kategórián belül átcserélhetőek\,  illetve visszav
 álthatóak. További információ: ugyfelszolgalat@tixa.hu Szeretnénk min
 denkinek felhívni a figyelmét\,  hogy a MOMkult belső tereibe[..]\nhttps
 ://momkult.hu/events/csanyi-sandor-szinhazi-estje-hogyan-ertsuk-felre-a-nok
 et-42/
URL:https://momkult.hu/events/csanyi-sandor-szinhazi-estje-hogyan-ertsuk-felre-a-noket-42/
END:VEVENT
END:VCALENDAR