BEGIN:VCALENDAR
VERSION:2.0
PRODID:-//eventon.com NONSGML v1.0//EN
CALSCALE:GREGORIAN
METHOD:PUBLISH
BEGIN:VEVENT
UID:69e8419486091
DTSTAMP:20260422T033340Z
DTSTART:20210616T170000Z
DTEND:20210616T183000Z
LOCATION:
SUMMARY:Történjen bármi | Kőhalmi Zoltán önálló előadása
DESCRIPTION:Tisztelt Látogatóink! A november 10-i  19.00- kor kezdődő
  „Történjen bármi- Kőhalmi Zoltán önálló estje &#8221; című e
 lőadásunk a MOM Kulturális Központban\,  a járványhelyzet miatt 
 új időpontban kerül megrendezésre! Az új időpont: 2021. június 16. 
 19:00\,  az előadás helyszíne változatlan! A megváltott belépőjegy
 ek automatikusan érvényesek az új időpontra. Megértésüket és türel
 müket köszönjük! Az előadás kb. 70 perc\,  szünet nélkül. Már az 
 ősember[..]\nhttps://momkult.hu/events/tortenjen-barmi-kohalmi-zoltan-onal
 lo-eloadasa-3/
URL:https://momkult.hu/events/tortenjen-barmi-kohalmi-zoltan-onallo-eloadasa-3/
END:VEVENT
END:VCALENDAR