BEGIN:VCALENDAR
VERSION:2.0
PRODID:-//eventon.com NONSGML v1.0//EN
CALSCALE:GREGORIAN
METHOD:PUBLISH
BEGIN:VEVENT
UID:69e7d1d6089c9
DTSTAMP:20260421T193654Z
DTSTART:20211208T183000Z
DTEND:20211208T200000Z
LOCATION:
SUMMARY:Befogad Ã©s kitaszÃ­t a vilÃ¡g | MÃ¡csai PÃ¡l Ã©s Huzella PÃ©ter Villon-estje
DESCRIPTION:FelhÃ­vjuk lÃ¡togatÃ³ink szÃ­ves figyelmÃ©t\,  hogy a MOMkult Ã
 ©pÃ¼letÃ©ben a maszkviselÃ©s kÃ¶telezÅ‘! Az elÅ‘adÃ¡s Ãºj idÅ‘pontban\,  20
 21. 12. 08-Ã¡n kerÃ¼l megrendezÃ©sre. (eredeti idÅ‘pont: 2021. 03. 23.\, Â 
  Â Ãºj idÅ‘pont: 2021.12.08.) A korÃ¡bbi idÅ‘pontra megvÃ¡sÃ¡rolt jegyek er
 re az idÅ‘pontra is Ã©rvÃ©nyesek lesznek! ZSIMÃœ kÃ¶zlemÃ©nye: Tisztelt KÃ¶
 zÃ¶nsÃ©gÃ¼nk! A 2020. november 9-Ã©n bejelentett korlÃ¡tozÃ¡sok Ã©rtelmÃ©be
 n[..]\nhttps://momkult.hu/events/befogad-es-kitaszit-a-vilag-macsai-pal-es-
 huzella-peter-villon-estje-3/
URL:https://momkult.hu/events/befogad-es-kitaszit-a-vilag-macsai-pal-es-huzella-peter-villon-estje-3/
END:VEVENT
END:VCALENDAR