BEGIN:VCALENDAR
VERSION:2.0
PRODID:-//eventon.com NONSGML v1.0//EN
CALSCALE:GREGORIAN
METHOD:PUBLISH
BEGIN:VEVENT
UID:69e8415b7525b
DTSTAMP:20260422T033243Z
DTSTART:20210608T173000Z
DTEND:20210608T190000Z
LOCATION:
SUMMARY:CsÃ¡nyi SÃ¡ndor szÃ­nhÃ¡zi estje | Hogyan Ã©rtsÃ¼k fÃ©lre a nÅ‘ket?
DESCRIPTION:A 2020.11.29-Ã©n elmaradt CsÃ¡nyi SÃ¡ndor &#8211; Hogyan Ã©rtsÃ
 ¼k fÃ©lre a nÅ‘ket? c. elÅ‘adÃ¡sÃ¡nak a pÃ³tlÃ¡sa 2021.06.08. 19.30 Ã³rakor
  kerÃ¼l megrendezÃ©sre. A megvÃ¡sÃ¡rolt jegyek automatikusan Ã©rvÃ©nyesek a
 z Ãºj idÅ‘pontra vagy visszavÃ¡lthatÃ³k 2021.05.28. 12:00-ig. A MOMkult bel
 sÅ‘ tereibe az oltÃ¡ssal nem rendelkezÅ‘k vÃ©delmÃ©ben &#8211; Ã©letkortÃ³l
  fÃ¼ggetlenÃ¼l &#8211; kizÃ¡rÃ³lag sajÃ¡t nevÃ©re szÃ³lÃ³ Ã©rvÃ©nyes[..]\nh
 ttps://momkult.hu/events/csanyi-sandor-szinhazi-estje-hogyan-ertsuk-felre-a
 -noket-41/
URL:https://momkult.hu/events/csanyi-sandor-szinhazi-estje-hogyan-ertsuk-felre-a-noket-41/
END:VEVENT
END:VCALENDAR